BEGIN:VCALENDAR
VERSION:2.0
PRODID:-//ASAGA | Asociación Argentina de Grasas y Aceites - ECPv6.2.2//NONSGML v1.0//EN
CALSCALE:GREGORIAN
METHOD:PUBLISH
X-ORIGINAL-URL:https://asaga.org.ar
X-WR-CALDESC:Eventos para ASAGA | Asociación Argentina de Grasas y Aceites
REFRESH-INTERVAL;VALUE=DURATION:PT1H
X-Robots-Tag:noindex
X-PUBLISHED-TTL:PT1H
BEGIN:VTIMEZONE
TZID:America/Sao_Paulo
BEGIN:STANDARD
TZOFFSETFROM:-0300
TZOFFSETTO:-0300
TZNAME:-03
DTSTART:20260101T000000
END:STANDARD
END:VTIMEZONE
BEGIN:VEVENT
DTSTART;VALUE=DATE:20260923
DTEND;VALUE=DATE:20260924
DTSTAMP:20260420T182844
CREATED:20240215T181028Z
LAST-MODIFIED:20260304T180329Z
UID:9210-1790121600-1790207999@asaga.org.ar
SUMMARY:Jornada sobre Eficiencia Energética en Plantas Industriales - 12° Edición
DESCRIPTION:[vc_row][vc_column width=»1/2″][vc_column_text]Objetivo\nEste programa tiene por objetivo brindar a los asistentes conocimiento actualizado en cada uno de los temas que se desarrollarán. En vistas de mejorar la eficiencia de los trabajadores de áreas de servicios energéticos\, éstos aportarán mejores índices de productividad en las plantas industriales aceiteras. A través de especialistas en cada tema\, podrán ampliar sus conocimientos y estar al día de las herramientas de vanguardia que se utilizan en el sector. \nPerfil\nProfesionales y técnicos de Departamento de Servicios Generales en plantas industriales. \nModalidad híbrida \nLos participantes pueden optar por asistir de manera presencial en la ciudad de Rosario o virtual mediante videoconferencias en simultáneo. \nHorario \nDe 9 a 17:30. Incluye almuerzo y coffee breaks. \nCoordinación \nIng. Pablo Martí (Grops Energy – ASAGA)[/vc_column_text][/vc_column][vc_column width=»1/2″][vc_single_image image=»10373″ img_size=»full» style=»vc_box_rounded»][vc_separator][/vc_column][/vc_row][vc_row css=».vc_custom_1620100451490{padding-bottom: 80px !important;}»][vc_column][vc_empty_space]\n\n	\n\n		\n			\n				\n					\n					\n					Programa\n										\n						\n						\n					\n					\n				\n				\n			\n		\n\n		\n			\n			[vc_column_text]Próximamente publicaremos el programa.[/vc_column_text] \n			\n		\n	\n	\n\n		\n			\n				\n					\n					\n					¿Quiénes son los profesionales a cargo del evento?\n										\n						\n						\n					\n					\n				\n				\n			\n		\n\n		\n			\n			[vc_column_text]COORDINACIÓN \nIng. Pablo Martí (GROPS Energy S.A. – ASAGA)\nIngeniero en Alimentos egresado de la UCEL\, Universidad del Centro Educativo Latinoamericano\, Rosario\, Santa Fe\, Argentina. Realizó un Posgrado en Administración de Empresas en Mac Master University\, Hamilton\, Ontario\, Canadá. Trabajó desarrollando distintas funciones en Molinos Río de La Plata\, Arcor SAIC\, Ternium Siderar. Se desempeño como Jefe de Servicios de la empresa Bunge Argentina S.A Complejo Ramallo\, siendo responsable de las tareas relacionadas de abastecimiento\, utilización y optimización de los recursos Energéticos. Director de la empresa Grops Energy S.A. Fue Presidente de ASAGA\, período 2016/2018\, actualmente es miembro de Comisión Directiva.[/vc_column_text][vc_empty_space] \n			\n		\n	\n	\n\n		\n			\n				\n					\n					\n					Aranceles\n										\n						\n						\n					\n					\n				\n				\n			\n		\n\n		\n			\n			[vc_column_text]\n                \n                \n                            \n                            \n                            \n                            \n                            \n                            \n                    \n            \n                    \n                \n    \n    \n\nIncluye: Materiales + coffee breaks + almuerzo \n*Valores vigentes hasta el 30-04-2026[/vc_column_text][vc_column_text css=».vc_custom_1674763507166{margin-top: 16px !important;}»][/vc_column_text] \n			\n		\n	\n	\n\n		\n			\n				\n					\n					\n					¡Quiero participar!\n										\n						\n						\n					\n					\n				\n				\n			\n		\n\n		\n			\n			[vc_raw_html el_class=»lqd-contact-form»]JTVCY29udGFjdC1mb3JtLTclMjBpZCUzRCUyMjU2MDUlMjIlMjB0aXRsZSUzRCUyMkluc2NyaXBjaSVDMyVCM24lMjBhJTIwY3Vyc29zJTIyJTVE[/vc_raw_html][vc_column_text]A continuación\, encontrarás el formulario de inscripción a la capacitación.  Si tenés que inscribir a un grupo de personas\, podés utilizar el signo “+” coloreado en amarillo\, que se encuentra a la derecha del formulario e ir agregando más inscriptos con los mismos datos de facturación.[/vc_column_text][vc_empty_space] \n			\n		\n	\n\n[vc_column_text css=».vc_custom_1619704177270{margin-top: 16px !important;}»]Contacto ASAGA Capacitaciones\nM. Cecilia Figueroa\ninscripciones@asaga.org.ar | ceciliafigueroa@asaga.org.ar\nWhatsapp: (+54 9 341) 680 3665[/vc_column_text]\n[/vc_column][/vc_row]
URL:https://asaga.org.ar/evento/jornada-sobre-optimizacion-energetica-en-plantas-industriales/
CATEGORIES:Cursos y jornadas
ATTACH;FMTTYPE=image/png:https://asaga.org.ar/wp-content/uploads/2024/02/energia-eficiencia.png
END:VEVENT
END:VCALENDAR