BEGIN:VCALENDAR
VERSION:2.0
PRODID:-//ASAGA | Asociación Argentina de Grasas y Aceites - ECPv6.2.2//NONSGML v1.0//EN
CALSCALE:GREGORIAN
METHOD:PUBLISH
X-WR-CALNAME:ASAGA | Asociación Argentina de Grasas y Aceites
X-ORIGINAL-URL:https://asaga.org.ar
X-WR-CALDESC:Eventos para ASAGA | Asociación Argentina de Grasas y Aceites
REFRESH-INTERVAL;VALUE=DURATION:PT1H
X-Robots-Tag:noindex
X-PUBLISHED-TTL:PT1H
BEGIN:VTIMEZONE
TZID:America/Sao_Paulo
BEGIN:STANDARD
TZOFFSETFROM:-0300
TZOFFSETTO:-0300
TZNAME:-03
DTSTART:20260101T000000
END:STANDARD
END:VTIMEZONE
BEGIN:VEVENT
DTSTART;VALUE=DATE:20260917
DTEND;VALUE=DATE:20260919
DTSTAMP:20260420T200443
CREATED:20260220T194151Z
LAST-MODIFIED:20260331T180642Z
UID:10258-1789603200-1789775999@asaga.org.ar
SUMMARY:Curso avanzado sobre Refinación de aceites y grasas – 11° Edición
DESCRIPTION:[vc_row][vc_column width=»1/2″][vc_empty_space][vc_column_text] \nObjetivo \nOtorgar capacitación y entrenamiento al personal que desarrolla tareas en plantas de refinación de aceites vegetales y grasas\, en principios y prácticas sobre las operaciones unitarias que intervienen en las distintas etapas de dicho proceso\, entre las que se destacan: desgomado\, neutralizado\, blanqueo y desodorizado. Aportar detalles sobre equipos tecnológicos y productos químicos utilizados. \nPerfil \nPersonal que desarrolla tareas en plantas de refinación de aceites vegetales y grasas. \nCoordinadores \nIng. Gabriel Alonso (DESMET) \nIng. Ramiro Benttati (INAGRO) \nModalidad híbrida  \nLos participantes pueden optar por asistir de manera presencial en la ciudad de Rosario o virtual mediante videoconferencias en simultáneo. \n  \n🏭 VISITAMOS PLANTAS INDUSTRIALES\, REFINERÍAS DEL GRAN ROSARIO – Actividad opcional con costo de traslado ¡CUPOS LIMITADOS! \n[/vc_column_text][/vc_column][vc_column width=»1/2″][vc_single_image image=»10496″ img_size=»full» style=»»][/vc_column][/vc_row][vc_row css=».vc_custom_1614360508859{padding-bottom: 80px !important;}»][vc_column][vc_empty_space]\n\n	\n\n		\n			\n				\n					\n					\n					Programa\n										\n						\n						\n					\n					\n				\n				\n			\n		\n\n		\n			\n			[vc_column_text] \nPróximamente publicaremos el programa. \n[/vc_column_text] \n			\n		\n	\n	\n\n		\n			\n				\n					\n					\n					¿Quiénes son los profesionales a cargo?\n										\n						\n						\n					\n					\n				\n				\n			\n		\n\n		\n			\n			[vc_column_text] \nCOORDINADORES \nIng. Gabriel AlonsoEs Ingeniero Químico\, egresado de la Universidad Nacional de Buenos Aires.Se desempeñó como Ingeniero de Proceso en la empresa Desmet S.A.I.C desde el año 2003 siendo responsable de confección de P&ID\, Lay Out\, especificaciones técnicas de equipos e instrumentos\, supervisión de talleres\, supervisión de montaje y puesta en marcha de plantas de proceso. Fue responsable de procesos del área de Biocombustibles de Desmet Ballestra Argentina y responsable técnico comercial para el Mercosur de la tecnología de nanoneutralización. Actualmente está en el área de soporte técnico de ventas para las tecnologías de refinación\, modificación de aceites y grasas y biocombustibles.Permanentemente es convocado a disertar en numerosos cursos y jornadas del sector. \nIng. Ramiro BentattiIngeniero Químico\, graduado en la Universidad Tecnológica Nacional\, UTN.En sus inicios\, se desempeñó como Ingeniero de procesos en la empresa LATIN BIO y como Supervisor de procesos en SL NATURAL.En el año 2012\, se incorporó a la empresa BUNGE Argentina S.A planta Puerto General San Martín\, desarrollando su profesión como Operador de Refinería. A partir del 2014 comenzó a desempeñarse como Ingeniero de Procesos convirtiéndose en 2016 en Jefe de Refinería dentro de la empresa.Desde el año 2017 se incorpora a la firma INAGRO como Jefe de I+D\, siendo luego promovido en el año 2019\, a Gerente de Producción e Investigación y Desarrollo dentro de la misma empresa. \n[/vc_column_text] \n			\n		\n	\n	\n\n		\n			\n				\n					\n					\n					Aranceles\n										\n						\n						\n					\n					\n				\n				\n			\n		\n\n		\n			\n			[vc_column_text] \n\n                \n                \n                            \n                            \n                            \n                            \n                            \n                            \n                    \n            \n                    \n                \n    \n    \n\n\nIncluye: Materiales + coffee breaks + almuerzo \n*Valores vigentes hasta el 30-04-2026 \n[/vc_column_text] \n			\n		\n	\n	\n\n		\n			\n				\n					\n					\n					¡Quiero participar!\n										\n						\n						\n					\n					\n				\n				\n			\n		\n\n		\n			\n			[vc_column_text] \n\n\nA continuación\, encontrarás el formulario de inscripción a la capacitación. Si vas a inscribir a un grupo de personas\, podés utilizar el signo “+” coloreado en amarillo\, que se encuentra a la derecha del formulario. \n\n\n[/vc_column_text][vc_empty_space][vc_raw_html el_class=»lqd-contact-form»]JTVCY29udGFjdC1mb3JtLTclMjBpZCUzRCUyMjU2MDUlMjIlMjB0aXRsZSUzRCUyMkluc2NyaXBjaSVDMyVCM24lMjBhJTIwY3Vyc29zJTIyJTVE[/vc_raw_html] \n			\n		\n	\n[vc_empty_space]\n[vc_column_text]Informes e inscripcióninscripciones@asaga.org.arceciliafigueroa@asaga.org.arWhatsapp: (+54 9 341) 680 3665[/vc_column_text]\n[/vc_column][/vc_row][vc_row disable_element=»yes»][vc_column el_class=»lqd-contact-form»][vc_raw_html]JTVCY29udGVudF9jb250cm9sJTVEJTVCY29udGFjdC1mb3JtLTclMjBpZCUzRCUyMjUwMzUlMjIlMjB0aXRsZSUzRCUyMkluc2NyaXBjaSVDMyVCM24lMjBTb2Npb3MlMjIlNUQlNUIlMkZjb250ZW50X2NvbnRyb2wlNUQlMEElMEElNUJjb250ZW50X2NvbnRyb2wlMjBsb2dnZWRfb3V0JTNEJUUyJTgwJTlEMSVFMiU4MCVCMyU1RCU1QmNvbnRhY3QtZm9ybS03JTIwaWQlM0QlMjI1MDQxJTIyJTIwdGl0bGUlM0QlMjJJbnNjcmlwY2klQzMlQjNuJTIwTm8lMjBTb2Npb3MlMjIlNUQlNUIlMkZjb250ZW50X2NvbnRyb2wlNUQ=[/vc_raw_html][vc_column_text] \nCOORDINADORES \nIng. Gabriel AlonsoEs Ingeniero Químico\, egresado de la Universidad Nacional de Buenos Aires.Se desempeñó como Ingeniero de Proceso en la empresa Desmet S.A.I.C desde el año 2003 siendo responsable de confección de P&ID\, Lay Out\, especificaciones técnicas de equipos e instrumentos\, supervisión de talleres\, supervisión de montaje y puesta en marcha de plantas de proceso. Fue responsable de procesos del área de Biocombustibles de Desmet Ballestra Argentina y responsable técnico comercial para el Mercosur de la tecnología de nanoneutralización. Actualmente está en el área de soporte técnico de ventas para las tecnologías de refinación\, modificación de aceites y grasas y biocombustibles.Permanentemente es convocado a disertar en numerosos cursos y jornadas del sector. \nIng. Ramiro BentattiIngeniero Químico\, graduado en la Universidad Tecnológica Nacional\, UTN.En sus inicios\, se desempeñó como Ingeniero de procesos en la empresa LATIN BIO y como Supervisor de procesos en SL NATURAL.En el año 2012\, se incorporó a la empresa BUNGE Argentina S.A planta Puerto General San Martín\, desarrollando su profesión como Operador de Refinería. A partir del 2014 comenzó a desempeñarse como Ingeniero de Procesos convirtiéndose en 2016 en Jefe de Refinería dentro de la empresa.Desde el año 2017 se incorpora a la firma INAGRO como Jefe de I+D\, siendo luego promovido en el año 2019\, a Gerente de Producción e Investigación y Desarrollo dentro de la misma empresa. \nDISERTANTES \nManuel Terrestre – APROXARIngeniero Químico egresado de la Universidad Tecnológica Nacional Facultad Regional Villa María.Entre 2017 y 2018 trabajó en la empresa PORTA HERMANOS S.A. como Analista de I+D.En 2018 ingresó a la empresa APROXAR como Ingeniero de procesos en el área de aceites\, grasas y biocombustibles. Desde 2019 a la actualidad\, es Jefe de proyectos\, dentro del área de aceites\, grasas y biocombustibles\, abarcando los procesos de Extracción por solvente\, Refinación\, Transformación de aceites/grasas\, producción de Bioetanol y Biodiesel.La empresa suministra estudios de factibilidad y órdenes de inversión\, Optimización/Ampliación de procesos\, Ingeniería básica\, Ingeniería de detalle\, desarrollo de la Automatización\, Especificaciones de compra\, Dirección de obra\, Supervisión de montaje\, Puesta en marcha\, Plantas llave en mano\, y construcción de equipamiento específico de procesos. Todos los suministros incluyen tecnología propia\, y proyectos realizados tanto en Argentina como en países de América\, Europa y Asia. \nGuillermo Fernández Long – APROXAREgresado como Ingeniero Químico y Magister en Ingeniería Química\, en la en la Universidad Nacional del Sur Bahía Blanca. En sus comienzos trabajó para la empresa DESMET S.A.I.C. alcanzando el cargo de Adjunto a las Gerencias de Ingeniería y Procesos para el MERCOSUR. Entre los años 1996 y 2007 se desempeñó en Consultoría como Profesional Independiente en el área de aceites y grasas.Desde 2007 a la fecha es Presidente de APROXAR S.A.\, empresa de Ingeniería y provisión de equipamiento para la Industria de aceites\, grasas y biocombustibles. En la compañía se elaboran desde Estudios de órdenes de inversión\, Optimización/Ampliación de procesos\, Dirección de obra\, Puesta en marcha\, construcción de equipamiento específico de procesos\, hasta Plantas llave en mano para diferentes países de América\, Asia y Europa. \nArthur Biagiotti – BR ProcesosIngeniero de Materiales por la Universidad federal de Itajuba (UNIFEI).Desde 2019\, en brprocess\, una empresa especializada en soluciones inteligentes para la industria de aceites y grasas vegetales y biodiésel\, Arthur se ha dedicado al desarrollo y aplicación de productos y procedimientos para la limpieza química en equipos industriales.Actualmente se desempeña como coordinador en el sector de limpieza química de alto desempeño. Él y su equipo tienen amplia experiencia atendiendo más de 30 plantas de refinería en Brasil\, ofreciendo productos tensoactivos\, inhibidores de corrosión y soporte técnico durante las operaciones de limpieza\, siempre comprometidos con la seguridad y la eficiencia de las operaciones industriales. \nGabriel Alonso – DESMETEs Ingeniero Químico\, egresado de la Universidad Nacional de Buenos Aires. Se desempeñó como Ingeniero de Proceso en la empresa Desmet S.A.I.C desde el año 2003 siendo responsable de confección de P&ID\, Lay Out\, especificaciones técnicas de equipos e instrumentos\, supervisión de talleres\, supervisión de montaje y puesta en marcha de plantas de proceso. Fue responsable de procesos del área de Biocombustibles de Desmet Argentina y responsable técnico comercial para el Mercosur de la tecnología de nanoneutralización. Actualmente está en el área de soporte técnico de ventas para las tecnologías de refinación\, modificación de aceites y grasas y biocombustibles. Permanentemente es convocado a disertar en numerosos cursos y jornadas del sector. \nGuillermo Negro – ALFA LAVALIngeniero Químico\, graduado en la Universidad Nacional de Buenos Aires. Desde 2013 trabaja en la firma Alfa Laval\, donde ha ocupado diversas posiciones dentro de las áreas de servicio postventa y de proyectos\, con foco en la tecnología de separación centrífuga e intercambio de calor. Actualmente se desempeña como Gerente de Negocios\, atendiendo las industrias de Aceite Vegetal\, Grasas y Proteínas en Argentina\, Bolivia\, Uruguay y Paraguay. \nTayna Oliveira de Carvalho – GRACELicenciada en Química por la Universidad de Sorocaba y posgraduada en Biotecnología por las Facultades Oswaldo Cruz.Actuación en la industria química durante 18 años y en la industria de aceites y grasas durante 13 años.Es Gerente Técnica de la empresa WR Grace\, responsable de la aplicación del segmento de alimentos y bebidas en América Latina y responsable del laboratorio de aplicación de Grace en Brasil. \nAndrés Barco – FLOWPROENIngeniero Químico graduado en la Universidad Nacional de Buenos Aires.Es Presidente y fundador desde el año 2015 de FLOWPROEN\, empresa especializada en soluciones de intercambio de calor y proyectos a medida.Desde el año 2000 se desempeñó como Gerente técnico-comercial\, responsable de ventas técnicas y departamento técnico en importantes empresas del rubro de intercambiadores de calor\, sistemas de vacío y dosificación. Es Docente en la materia Operaciones unitarios II de la carrera de Ingeniería Química de la universidad de Buenos Aires y en la universidad de General Sarmiento\, en temas de intercambio de calor a placas.Ha disertado en numerosos cursos dictados por ASAGA sobre biodiesel con la temática “Intercambiadores de calor a placas para la industria del biodiesel”. \nRicardo Cerrada Lozada – ALFA LAVALIngeniero Químico egresado en 2004 de la Universidad de Los Andes\, Venezuela. Desde 2012 ha laborado en la industria aceitera\, ocupando diversas posiciones en áreas como Manufactura e Ingeniería en Latinoamérica y el Caribe. Desde 2023 forma parte del equipo de Global Technology de Aceites y Grasas de Alfa Laval\, Dinamarca. \nHéctor Lara – CLARIANTSe desempeña en Clariant como especialista de soporte técnico para la región deLatinoamérica\, tiene una Licenciatura en Ingeniería Química por parte de la Benemérita Universidad de Autónoma de Puebla y cuenta con más 5 años de experiencia en el área de refinación de aceites y grasas.Comenzó como parte del equipo de aplicación y desarrollo en diferentes laboratorios de Clariant\, en donde adquirió amplios conocimientos sobre el funcionamiento y aplicación de los adsorbentes y tierras de blanqueo en la industria de los aceites y grasas\, y ha trabajado con múltiples refinerías con el objetivo de optimizar y buscar mejoras en sus procesos industriales. \nMarcos Pacheco – HOLLBRASTecnólogo en Gestión de la Producción Industrial de la Universidad Anhanguera\, Tecnólogo en Química y Mecánica.Comencé mi carrera en Hollbras trabajando en las áreas de laboratorio y desarrollo de aplicaciones\, luego pasé al departamento de asistencia técnica. Posteriormente avancé al sector de ventas en el segmento químico.Actualmente soy responsable de coordinar las actividades de venta y postventa para América Latina.Mi experiencia es integral e incluye procesos de venta\, atención al cliente\, asistencia técnica\, procesos productivos y químicos\, así como capacitación operativa. \nMarta Fraguglia – INGENIERÍA BERNOULLI S.A.Ingeniera Química\, graduada en la Facultad de Ingeniería Química de la Universidad Nacional de Buenos Aires Ex docente de la universidad de Buenos Aires en la Cátedra de Operaciones Unitarias y de Microbiología Industrial. Desde el año 1986 hasta la fecha trabaja como Ingeniera en la empresa J.M. Pedroni y Asociados S.A. / Ingeniería Bernoulli S.A. Se desempeña en diseño de sistemas de vacíos para plantas aceiteras y petroleras\, inspección del montaje de sistemas de vacío\, puesta en marcha\, diagnóstico de funcionamiento de los mismos\, entrenamiento de personal en la operación de sistemas de vacío en plantas. \nJosefina Fogliatti  – INGENIERÍA BERNOULLI S.A.Ingeniera Química\, graduada en la Universidad Nacional de Río Cuarto. Desde el año 2011\, trabaja en la empresa J.M. Pedroni y Asociados S.A. / Ingeniería Bernoulli S.A. \n[/vc_column_text][vc_column_text] \nEsta actividad es patrocinada por las siguientes empresas \n(haga clic sobre los logos para visitar sus sitios web) \n[/vc_column_text][vc_row_inner][vc_column_inner width=»1/3″][vc_single_image image=»6320″ img_size=»full» style=»» onclick=»custom_link» img_link_target=»_blank» link=»https://www.aproxar.com/en/»][/vc_column_inner][vc_column_inner width=»1/3″][vc_single_image image=»6352″ img_size=»full» style=»» onclick=»custom_link» img_link_target=»_blank» link=»https://www.clariant.com/en/Corporate»][/vc_column_inner][vc_column_inner width=»1/3″][vc_single_image image=»6099″ img_size=»full» style=»» onclick=»custom_link» img_link_target=»_blank» link=»https://www.desmetballestra.com/»][/vc_column_inner][/vc_row_inner][/vc_column][/vc_row][vc_row][vc_column][vc_column_text] \n  \n  \n[/vc_column_text][/vc_column][/vc_row]
URL:https://asaga.org.ar/evento/curso-avanzado-sobre-refinacion-de-aceites-y-grasas-11-edicion/
CATEGORIES:Cursos y jornadas
ATTACH;FMTTYPE=image/png:https://asaga.org.ar/wp-content/uploads/2026/02/refinacion.png
END:VEVENT
END:VCALENDAR